BEGIN:VCALENDAR
VERSION:2.0
PRODID:Events Booking
BEGIN:VEVENT
UID:69e8b94c61385
SUMMARY:MTOBTT 2026 - C.N. Distancia Longa OriBTT
DESCRIPTION:&nbsp\;
 &nbsp\;
 &nbsp\;
 &nbsp\;
DTSTART:20260418T000000Z
DTEND:20260430T000000Z
DTSTAMP:20220722T161528Z
ORGANIZER:MAILTO:COA
END:VEVENT
END:VCALENDAR